BEGIN:VCALENDAR
VERSION:2.0
PRODID:-//District Learning Team - ECPv6.2.8.1//NONSGML v1.0//EN
CALSCALE:GREGORIAN
METHOD:PUBLISH
X-WR-CALNAME:District Learning Team
X-ORIGINAL-URL:https://learn.sd61.bc.ca
X-WR-CALDESC:Events for District Learning Team
REFRESH-INTERVAL;VALUE=DURATION:PT1H
X-Robots-Tag:noindex
X-PUBLISHED-TTL:PT1H
BEGIN:VTIMEZONE
TZID:America/Vancouver
BEGIN:DAYLIGHT
TZOFFSETFROM:-0800
TZOFFSETTO:-0700
TZNAME:PDT
DTSTART:20180311T100000
END:DAYLIGHT
BEGIN:STANDARD
TZOFFSETFROM:-0700
TZOFFSETTO:-0800
TZNAME:PST
DTSTART:20181104T090000
END:STANDARD
END:VTIMEZONE
BEGIN:VEVENT
DTSTART;TZID=America/Vancouver:20180213T150000
DTEND;TZID=America/Vancouver:20180213T163000
DTSTAMP:20260422T230006
CREATED:20180208T192410Z
LAST-MODIFIED:20180208T212427Z
UID:2520-1518534000-1518539400@learn.sd61.bc.ca
SUMMARY:Tech Tuesday - Cedar Hill Middle
DESCRIPTION:Tech Tuesdays are drop-in technology for learning sessions open to all K-12 educators. Come with your questions for just in time support. \nEvery Tuesday from 3:00-4:30pm \nJoin us for any or all of the following dates: \nFeb 13th Cedar Hill Middle School \nFeb 20th Lambrick Park Secondary \nFeb 20th Willows Elementary \nFeb 27th Central Middle School \nFeb 27th Rockheights Middle \nMarch 6th Colquitz Middle School \nMarch 6th Frank Hobbs Elementary \nDownload our .PDF poster to share at your school by clicking here.
URL:https://learn.sd61.bc.ca/calendar-event/tech-tuesday-cedar-hill-middle/
LOCATION:British Columbia
CATEGORIES:Tech For Learning
ORGANIZER;CN="The Learning Team":MAILTO:learningteam@sd61.bc.ca
END:VEVENT
BEGIN:VEVENT
DTSTART;TZID=America/Vancouver:20180220T150000
DTEND;TZID=America/Vancouver:20180220T163000
DTSTAMP:20260422T230006
CREATED:20180208T192501Z
LAST-MODIFIED:20180208T212216Z
UID:2524-1519138800-1519144200@learn.sd61.bc.ca
SUMMARY:Tech Tuesday - Lambrick Park Secondary
DESCRIPTION:Tech Tuesdays are drop-in technology for learning sessions open to all K-12 educators. Come with your questions for just in time support. \nEvery Tuesday from 3:00-4:30pm \nJoin us for any or all of the following dates: \nFeb 13th Cedar Hill Middle School \nFeb 20th Lambrick Park Secondary \nFeb 20th Willows Elementary \nFeb 27th Central Middle School \nFeb 27th Rockheights Middle \nMarch 6th Colquitz Middle School \nMarch 6th Frank Hobbs Elementary \nDownload our .PDF poster to share at your school by clicking here.
URL:https://learn.sd61.bc.ca/calendar-event/tech-tuesday-lambrick-park-secondary/
LOCATION:British Columbia
CATEGORIES:Tech For Learning
ORGANIZER;CN="The Learning Team":MAILTO:learningteam@sd61.bc.ca
END:VEVENT
BEGIN:VEVENT
DTSTART;TZID=America/Vancouver:20180220T150000
DTEND;TZID=America/Vancouver:20180220T163000
DTSTAMP:20260422T230006
CREATED:20180208T192538Z
LAST-MODIFIED:20180208T212159Z
UID:2526-1519138800-1519144200@learn.sd61.bc.ca
SUMMARY:Tech Tuesday - Willows Elementary
DESCRIPTION:Tech Tuesdays are drop-in technology for learning sessions open to all K-12 educators. Come with your questions for just in time support. \nEvery Tuesday from 3:00-4:30pm \nJoin us for any or all of the following dates: \nFeb 13th Cedar Hill Middle School \nFeb 20th Lambrick Park Secondary \nFeb 20th Willows Elementary \nFeb 27th Central Middle School \nFeb 27th Rockheights Middle \nMarch 6th Colquitz Middle School \nMarch 6th Frank Hobbs Elementary \nDownload our .PDF poster to share at your school by clicking here.
URL:https://learn.sd61.bc.ca/calendar-event/tech-tuesday-willows-elementary/
LOCATION:British Columbia
CATEGORIES:Tech For Learning
ORGANIZER;CN="The Learning Team":MAILTO:learningteam@sd61.bc.ca
END:VEVENT
BEGIN:VEVENT
DTSTART;TZID=America/Vancouver:20180227T150000
DTEND;TZID=America/Vancouver:20180227T163000
DTSTAMP:20260422T230006
CREATED:20180208T192734Z
LAST-MODIFIED:20180208T212143Z
UID:2528-1519743600-1519749000@learn.sd61.bc.ca
SUMMARY:Tech Tuesday - Central Middle School
DESCRIPTION:Tech Tuesdays are drop-in technology for learning sessions open to all K-12 educators. Come with your questions for just in time support. \nEvery Tuesday from 3:00-4:30pm \nJoin us for any or all of the following dates: \nFeb 13th Cedar Hill Middle School \nFeb 20th Lambrick Park Secondary \nFeb 20th Willows Elementary \nFeb 27th Central Middle School \nFeb 27th Rockheights Middle \nMarch 6th Colquitz Middle School \nMarch 6th Frank Hobbs Elementary \nDownload our .PDF poster to share at your school by clicking here.
URL:https://learn.sd61.bc.ca/calendar-event/tech-tuesday-central-middle-school/
LOCATION:British Columbia
CATEGORIES:Tech For Learning
ORGANIZER;CN="The Learning Team":MAILTO:learningteam@sd61.bc.ca
END:VEVENT
BEGIN:VEVENT
DTSTART;TZID=America/Vancouver:20180227T150000
DTEND;TZID=America/Vancouver:20180227T163000
DTSTAMP:20260422T230006
CREATED:20180208T192937Z
LAST-MODIFIED:20180208T212531Z
UID:2532-1519743600-1519749000@learn.sd61.bc.ca
SUMMARY:Tech Tuesday - Rockheights Middle
DESCRIPTION:Tech Tuesdays are drop-in technology for learning sessions open to all K-12 educators. Come with your questions for just in time support. \nEvery Tuesday from 3:00-4:30pm \nJoin us for any or all of the following dates: \nFeb 13th Cedar Hill Middle School \nFeb 20th Lambrick Park Secondary \nFeb 20th Willows Elementary \nFeb 27th Central Middle School \nFeb 27th Rockheights Middle \nMarch 6th Colquitz Middle School \nMarch 6th Frank Hobbs Elementary \nDownload our .PDF poster to share at your school by clicking here.
URL:https://learn.sd61.bc.ca/calendar-event/tech-tuesday-rockheights-middle/
LOCATION:British Columbia
CATEGORIES:Tech For Learning
ORGANIZER;CN="The Learning Team":MAILTO:learningteam@sd61.bc.ca
END:VEVENT
END:VCALENDAR